BEGIN:VCALENDAR
VERSION:2.0
PRODID:-//Lutheran Valley Retreat - ECPv6.15.20//NONSGML v1.0//EN
CALSCALE:GREGORIAN
METHOD:PUBLISH
X-WR-CALNAME:Lutheran Valley Retreat
X-ORIGINAL-URL:https://lvr.org
X-WR-CALDESC:Events for Lutheran Valley Retreat
REFRESH-INTERVAL;VALUE=DURATION:PT1H
X-Robots-Tag:noindex
X-PUBLISHED-TTL:PT1H
BEGIN:VTIMEZONE
TZID:UTC
BEGIN:STANDARD
TZOFFSETFROM:+0000
TZOFFSETTO:+0000
TZNAME:UTC
DTSTART:20250101T000000
END:STANDARD
END:VTIMEZONE
BEGIN:VEVENT
DTSTART;VALUE=DATE:20260531
DTEND;VALUE=DATE:20260606
DTSTAMP:20260423T203848
CREATED:20241017T211623Z
LAST-MODIFIED:20251009T174908Z
UID:8599-1780185600-1780703999@lvr.org
SUMMARY:Kansas District Week
DESCRIPTION:Kansas Teens \nGet your bag’s packed and get on that bus for a week of spiritual enrichment in the mountains of Colorado! \nWhat to expect:\n– Making life-long friends with other Kansas LCMS teens\n– Late night campfire talks\n– Leaning what the “5-C’s” are\n– Falling in love with bus games\n– Building trusting bonds with your Village\n– Beating the staff in “Night-Strike”\n– Hiking Cedar Mountain for an incredible view\n– Making friendship bracelets\n– Rappelling off 60 foot cliffs\n– Leading Worship\n– Having fun Kitchen Parties\n– Hearing everyone scream on the giant swing\n– Flying down zip-lines\n– Challenging your comfort zone
URL:https://lvr.org/camp-calendar/kansas-district-week/
ATTACH;FMTTYPE=image/jpeg:https://lvr.org/wp-content/uploads/2024/02/DSC0080-scaled.jpg
END:VEVENT
BEGIN:VEVENT
DTSTART;VALUE=DATE:20260621
DTEND;VALUE=DATE:20260627
DTSTAMP:20260423T203848
CREATED:20241017T220747Z
LAST-MODIFIED:20251009T175320Z
UID:8615-1782000000-1782518399@lvr.org
SUMMARY:River Adventure (13-17)
DESCRIPTION:Youth will still check in Sunday like normal but then leave Monday morning to hike down to the South Platte River. This amazing pack trip will treat adventurers to some of Colorado’s most beautiful and rugged terrain – hiking 1200 vertical ft. to the Platte River down Metberry Gulch – with climb/rappel for 3 days\, playing in the river\, and rafting on Thursday. \nThis is a particularly bonding trip for kids who want to get out of their comfort zone and do something they may never think to do otherwise! \nBackpacks\, tents\, food and sleeping pads will be provided. \nPrice: $580
URL:https://lvr.org/camp-calendar/river-adventure-13-17/
ATTACH;FMTTYPE=image/jpeg:https://lvr.org/wp-content/uploads/2024/03/IMG_2963-scaled.jpg
END:VEVENT
BEGIN:VEVENT
DTSTART;VALUE=DATE:20260628
DTEND;VALUE=DATE:20260704
DTSTAMP:20260423T203848
CREATED:20241108T180855Z
LAST-MODIFIED:20251009T172431Z
UID:8643-1782604800-1783123199@lvr.org
SUMMARY:Summer Camp (8-14): Pay What You Can Week
DESCRIPTION:Experience the awesomeness of LVR during these week-long sessions. Each day the campers play in God’s creation with activities like archery & tomahawks\, rock climbing & rappelling\, fishing\, giant swing\, crafts\, and many other camp activities. \nPrice: $460\n*This is the only “Pay What You Can Week”. $460 is the starting price and if you can’t pay the full price please apply for a discount through registration and pay for the deposit to secure a spot.*
URL:https://lvr.org/camp-calendar/summer-camp-pay-what-you-can-week/
ATTACH;FMTTYPE=image/jpeg:https://lvr.org/wp-content/uploads/2023/02/DSC_1811-scaled.jpg
END:VEVENT
BEGIN:VEVENT
DTSTART;VALUE=DATE:20260628
DTEND;VALUE=DATE:20260704
DTSTAMP:20260423T203848
CREATED:20241108T195723Z
LAST-MODIFIED:20251009T174809Z
UID:8653-1782604800-1783123199@lvr.org
SUMMARY:Horse Adventures (8-10 year olds)
DESCRIPTION:Campers can build lasting relationships with the horses and look forward to seeing them each year when they return. They will get demonstrations in grooming\, haltering\, leading\, saddling & riding styles as well as hands on experience. Campers are instructed to wear long pants & tennis shoes or boots. \nPrice:$580\n*’Horse Adventure’ camp is not open to full scholarships but partial scholarships are available.*
URL:https://lvr.org/camp-calendar/horse-adventures-8-10-year-olds/
ATTACH;FMTTYPE=image/jpeg:https://lvr.org/wp-content/uploads/2023/02/IMG_9729_cropped-scaled.jpg
END:VEVENT
BEGIN:VEVENT
DTSTART;TZID=UTC:20260628T080000
DTEND;TZID=UTC:20260703T170000
DTSTAMP:20260423T203848
CREATED:20241108T195227Z
LAST-MODIFIED:20251009T174550Z
UID:8651-1782633600-1783098000@lvr.org
SUMMARY:Frontier Village (11-13): Pay What You Can
DESCRIPTION:Campers get to experience how some things were done 150 years ago while staying in cabins that are ready for campers who like adventure. Activities may include cooking in our rustic kitchen\, furniture making\, archery\, tomahawks\, fishing\, leather crafting\, and many other activities centered around Frontier Village. Campers assist LVR staff in cooking two out of three meals/day over a fire or wood burning stove. \nPrice: $460\n*This is the only “Pay What You Can Week”. $450 is the starting price and if you can’t pay the full price please apply for a discount through registration and pay for the deposit to secure a spot.*
URL:https://lvr.org/camp-calendar/frontier-village-11-13-pay-what-you-can/
ATTACH;FMTTYPE=image/jpeg:https://lvr.org/wp-content/uploads/2024/11/IMG_4620-scaled.jpg
END:VEVENT
END:VCALENDAR