BEGIN:VCALENDAR
VERSION:2.0
PRODID:-//Lutheran Valley Retreat - ECPv6.15.20//NONSGML v1.0//EN
CALSCALE:GREGORIAN
METHOD:PUBLISH
X-WR-CALNAME:Lutheran Valley Retreat
X-ORIGINAL-URL:https://lvr.org
X-WR-CALDESC:Events for Lutheran Valley Retreat
REFRESH-INTERVAL;VALUE=DURATION:PT1H
X-Robots-Tag:noindex
X-PUBLISHED-TTL:PT1H
BEGIN:VTIMEZONE
TZID:UTC
BEGIN:STANDARD
TZOFFSETFROM:+0000
TZOFFSETTO:+0000
TZNAME:UTC
DTSTART:20250101T000000
END:STANDARD
END:VTIMEZONE
BEGIN:VEVENT
DTSTART;VALUE=DATE:20260531
DTEND;VALUE=DATE:20260606
DTSTAMP:20260423T202045
CREATED:20241017T211623Z
LAST-MODIFIED:20251009T174908Z
UID:8599-1780185600-1780703999@lvr.org
SUMMARY:Kansas District Week
DESCRIPTION:Kansas Teens \nGet your bag’s packed and get on that bus for a week of spiritual enrichment in the mountains of Colorado! \nWhat to expect:\n– Making life-long friends with other Kansas LCMS teens\n– Late night campfire talks\n– Leaning what the “5-C’s” are\n– Falling in love with bus games\n– Building trusting bonds with your Village\n– Beating the staff in “Night-Strike”\n– Hiking Cedar Mountain for an incredible view\n– Making friendship bracelets\n– Rappelling off 60 foot cliffs\n– Leading Worship\n– Having fun Kitchen Parties\n– Hearing everyone scream on the giant swing\n– Flying down zip-lines\n– Challenging your comfort zone
URL:https://lvr.org/camp-calendar/kansas-district-week/
ATTACH;FMTTYPE=image/jpeg:https://lvr.org/wp-content/uploads/2024/02/DSC0080-scaled.jpg
END:VEVENT
BEGIN:VEVENT
DTSTART;VALUE=DATE:20260605
DTEND;VALUE=DATE:20260608
DTSTAMP:20260423T202045
CREATED:20241017T212243Z
LAST-MODIFIED:20251009T174040Z
UID:8601-1780617600-1780876799@lvr.org
SUMMARY:American Heritage Girls CO 1514
DESCRIPTION:AHG Troop CO1514 takes over camp gain badges\, learn about the outdoors\, ride horses\, and make life long memories with troop friends!
URL:https://lvr.org/camp-calendar/american-heritage-girls-co-1514/
END:VEVENT
BEGIN:VEVENT
DTSTART;VALUE=DATE:20260621
DTEND;VALUE=DATE:20260627
DTSTAMP:20260423T202045
CREATED:20241017T220256Z
LAST-MODIFIED:20251009T173920Z
UID:8612-1782000000-1782518399@lvr.org
SUMMARY:AbleLight Campers and Servant Event
DESCRIPTION:High School Youth will join our AbleLight adult campers with disabilities to help them have an amazing camp experience! Youth and adult leaders will come early to help ready camp for our AbleLight friends then buddy up to share a life-changing week together.
URL:https://lvr.org/camp-calendar/ablelight-campers-and-servant-event/
ATTACH;FMTTYPE=image/jpeg:https://lvr.org/wp-content/uploads/2024/10/Copy-of-_DSC0298-scaled.jpg
END:VEVENT
BEGIN:VEVENT
DTSTART;VALUE=DATE:20260621
DTEND;VALUE=DATE:20260627
DTSTAMP:20260423T202045
CREATED:20241017T220747Z
LAST-MODIFIED:20251009T175320Z
UID:8615-1782000000-1782518399@lvr.org
SUMMARY:River Adventure (13-17)
DESCRIPTION:Youth will still check in Sunday like normal but then leave Monday morning to hike down to the South Platte River. This amazing pack trip will treat adventurers to some of Colorado’s most beautiful and rugged terrain – hiking 1200 vertical ft. to the Platte River down Metberry Gulch – with climb/rappel for 3 days\, playing in the river\, and rafting on Thursday. \nThis is a particularly bonding trip for kids who want to get out of their comfort zone and do something they may never think to do otherwise! \nBackpacks\, tents\, food and sleeping pads will be provided. \nPrice: $580
URL:https://lvr.org/camp-calendar/river-adventure-13-17/
ATTACH;FMTTYPE=image/jpeg:https://lvr.org/wp-content/uploads/2024/03/IMG_2963-scaled.jpg
END:VEVENT
BEGIN:VEVENT
DTSTART;VALUE=DATE:20260621
DTEND;VALUE=DATE:20260704
DTSTAMP:20260423T202045
CREATED:20241017T221436Z
LAST-MODIFIED:20251009T174141Z
UID:8618-1782000000-1783123199@lvr.org
SUMMARY:Counselor In Training Session 1
DESCRIPTION:CIT’s will stay 2 weeks learning the ins and outs of becoming a camp counselor. They will meet daily with the J-Staff coordinator to approach weaknesses\, grow in their strengths and set goals. Eventually CIT’s will be paired up with a counselor to shadow and work with the group. \nMust be 15 or older.
URL:https://lvr.org/camp-calendar/counselor-in-training-session-1/
ATTACH;FMTTYPE=image/jpeg:https://lvr.org/wp-content/uploads/2024/02/DSC0129-scaled.jpg
END:VEVENT
BEGIN:VEVENT
DTSTART;VALUE=DATE:20260621
DTEND;VALUE=DATE:20260711
DTSTAMP:20260423T202045
CREATED:20241017T221733Z
LAST-MODIFIED:20251009T173955Z
UID:8620-1782000000-1783727999@lvr.org
SUMMARY:Advanced Counselor in Training Session 1
DESCRIPTION:ACIT’s will stay 3 weeks learning the ins and outs of becoming a camp counselor. They will meet daily with the J-Staff coordinator to approach weaknesses\, grow in their strengths and set goals. Eventually ACIT’s will be paired up with a counselor to shadow and work with the group. \nMust be 15 or older and have been a CIT previously. \nPrice: $300
URL:https://lvr.org/camp-calendar/advanced-counselor-in-training-session-1/
ATTACH;FMTTYPE=image/jpeg:https://lvr.org/wp-content/uploads/2024/02/DSC0129-scaled.jpg
END:VEVENT
BEGIN:VEVENT
DTSTART;VALUE=DATE:20260705
DTEND;VALUE=DATE:20260801
DTSTAMP:20260423T202045
CREATED:20241127T160555Z
LAST-MODIFIED:20251009T174830Z
UID:8854-1783209600-1785542399@lvr.org
SUMMARY:Junior Counselor
DESCRIPTION:JC’s will stay 4 weeks to learn the ins and outs of becoming a camp counselor. They will meet daily with the J-Staff coordinator to approach weaknesses\, grow in their strengths and set goals. Eventually JC’s will be paired up with a counselor to shadow and work with the group. \nMust have been a CIT and ACIT.
URL:https://lvr.org/camp-calendar/junior-counselor/
ATTACH;FMTTYPE=image/jpeg:https://lvr.org/wp-content/uploads/2024/02/DSC0129-scaled.jpg
END:VEVENT
BEGIN:VEVENT
DTSTART;VALUE=DATE:20260705
DTEND;VALUE=DATE:20260711
DTSTAMP:20260423T202045
CREATED:20241127T155424Z
LAST-MODIFIED:20251009T175306Z
UID:8844-1783209600-1783727999@lvr.org
SUMMARY:River Adventure (11-13 years old)
DESCRIPTION:Youth will still check in Sunday like normal but then leave Monday morning to hike down to the South Platte River. This amazing pack trip will treat adventurers to some of Colorado’s most beautiful and rugged terrain – hiking 1200 vertical ft. to the Platte River down Metberry Gulch – with climb/rappel for 3 days\, playing in the river\, and rafting on Thursday. \nThis is a particularly bonding trip for kids who want to get out of their comfort zone and do something they may never think to do otherwise! \nBackpacks\, tents\, food and sleeping pads will be provided. \nPrice: $580
URL:https://lvr.org/camp-calendar/river-adventure-11-13-years-old/
ATTACH;FMTTYPE=image/jpeg:https://lvr.org/wp-content/uploads/2024/03/IMG_2963-scaled.jpg
END:VEVENT
BEGIN:VEVENT
DTSTART;VALUE=DATE:20260705
DTEND;VALUE=DATE:20260718
DTSTAMP:20260423T202045
CREATED:20241127T160247Z
LAST-MODIFIED:20251009T174151Z
UID:8850-1783209600-1784332799@lvr.org
SUMMARY:Counselor in Training Session 2
DESCRIPTION:CIT’s will stay 2 weeks learning the ins and outs of becoming a camp counselor. They will meet daily with the J-Staff coordinator to approach weaknesses\, grow in their strengths and set goals. Eventually CIT’s will be paired up with a counselor to shadow and work with the group. \nMust be 15 or older. \nPrice: $595
URL:https://lvr.org/camp-calendar/counselor-in-training-session-2/
ATTACH;FMTTYPE=image/jpeg:https://lvr.org/wp-content/uploads/2024/02/DSC0129-scaled.jpg
END:VEVENT
BEGIN:VEVENT
DTSTART;VALUE=DATE:20260712
DTEND;VALUE=DATE:20260718
DTSTAMP:20260423T202045
CREATED:20241127T155912Z
LAST-MODIFIED:20251009T175317Z
UID:8846-1783814400-1784332799@lvr.org
SUMMARY:River Adventure (13 - 17 years old)
DESCRIPTION:Youth will still check in Sunday like normal but then leave Monday morning to hike down to the South Platte River. This amazing pack trip will treat adventurers to some of Colorado’s most beautiful and rugged terrain – hiking 1200 vertical ft. to the Platte River down Metberry Gulch – with climb/rappel for 3 days\, playing in the river\, and rafting on Thursday. \nThis is a particularly bonding trip for kids who want to get out of their comfort zone and do something they may never think to do otherwise! \nBackpacks\, tents\, food and sleeping pads will be provided. \nPrice: $580
URL:https://lvr.org/camp-calendar/river-adventure-13-17-years-old/
ATTACH;FMTTYPE=image/jpeg:https://lvr.org/wp-content/uploads/2024/03/IMG_2963-scaled.jpg
END:VEVENT
BEGIN:VEVENT
DTSTART;VALUE=DATE:20260712
DTEND;VALUE=DATE:20260801
DTSTAMP:20260423T202045
CREATED:20241127T160822Z
LAST-MODIFIED:20251009T174020Z
UID:8857-1783814400-1785542399@lvr.org
SUMMARY:Advanced Counselor in Training Session 2
DESCRIPTION:ACIT’s will stay 3 weeks learning the ins and outs of becoming a camp counselor. They will meet daily with the J-Staff coordinator to approach weaknesses\, grow in their strengths and set goals. Eventually ACIT’s will be paired up with a counselor to shadow and work with the group. \nMust be 15 or older and have been a CIT previously. \nPrice: $300
URL:https://lvr.org/camp-calendar/advanced-counselor-in-training-session-2/
END:VEVENT
BEGIN:VEVENT
DTSTART;VALUE=DATE:20260719
DTEND;VALUE=DATE:20260801
DTSTAMP:20260423T202045
CREATED:20241127T160418Z
LAST-MODIFIED:20251009T174152Z
UID:8852-1784419200-1785542399@lvr.org
SUMMARY:Counselor in Training Session 3
DESCRIPTION:CIT’s will stay 2 weeks learning the ins and outs of becoming a camp counselor. They will meet daily with the J-Staff coordinator to approach weaknesses\, grow in their strengths and set goals. Eventually CIT’s will be paired up with a counselor to shadow and work with the group. \nMust be 15 or older. \nPrice: $595
URL:https://lvr.org/camp-calendar/counselor-in-training-session-3/
ATTACH;FMTTYPE=image/jpeg:https://lvr.org/wp-content/uploads/2024/02/DSC0129-scaled.jpg
END:VEVENT
BEGIN:VEVENT
DTSTART;VALUE=DATE:20260726
DTEND;VALUE=DATE:20260801
DTSTAMP:20260423T202045
CREATED:20241127T160007Z
LAST-MODIFIED:20251009T175318Z
UID:8848-1785024000-1785542399@lvr.org
SUMMARY:River Adventure (13-17 years old)
DESCRIPTION:Youth will still check in Sunday like normal but then leave Monday morning to hike down to the South Platte River. This amazing pack trip will treat adventurers to some of Colorado’s most beautiful and rugged terrain – hiking 1200 vertical ft. to the Platte River down Metberry Gulch – with climb/rappel for 3 days\, playing in the river\, and rafting on Thursday. \nThis is a particularly bonding trip for kids who want to get out of their comfort zone and do something they may never think to do otherwise! \nBackpacks\, tents\, food and sleeping pads will be provided. \nPrice: $580
URL:https://lvr.org/camp-calendar/river-adventure-13-17-years-old-2/
ATTACH;FMTTYPE=image/jpeg:https://lvr.org/wp-content/uploads/2024/03/IMG_2963-scaled.jpg
END:VEVENT
END:VCALENDAR