BEGIN:VCALENDAR
VERSION:2.0
PRODID:-//Lutheran Valley Retreat - ECPv6.15.20//NONSGML v1.0//EN
CALSCALE:GREGORIAN
METHOD:PUBLISH
X-WR-CALNAME:Lutheran Valley Retreat
X-ORIGINAL-URL:https://lvr.org
X-WR-CALDESC:Events for Lutheran Valley Retreat
REFRESH-INTERVAL;VALUE=DURATION:PT1H
X-Robots-Tag:noindex
X-PUBLISHED-TTL:PT1H
BEGIN:VTIMEZONE
TZID:UTC
BEGIN:STANDARD
TZOFFSETFROM:+0000
TZOFFSETTO:+0000
TZNAME:UTC
DTSTART:20250101T000000
END:STANDARD
END:VTIMEZONE
BEGIN:VEVENT
DTSTART;VALUE=DATE:20260712
DTEND;VALUE=DATE:20260718
DTSTAMP:20260424T002354
CREATED:20251009T175745Z
LAST-MODIFIED:20251009T180131Z
UID:9644-1783814400-1784332799@lvr.org
SUMMARY:Summer Camp (8-14 years old)
DESCRIPTION:Experience the awesomeness of LVR during these week-long sessions. Each day the campers play in God’s creation with activities like archery & tomahawks\, rock climbing & rappelling\, fishing\, giant swing\, crafts\, and many other camp activities. \nPrice: \n$600
URL:https://lvr.org/camp-calendar/summer-camp-8-14-years-old-2/
ATTACH;FMTTYPE=image/jpeg:https://lvr.org/wp-content/uploads/2025/06/IMG_0026-scaled.jpg
END:VEVENT
END:VCALENDAR