BEGIN:VCALENDAR
VERSION:2.0
PRODID:-//Lutheran Valley Retreat - ECPv6.15.20//NONSGML v1.0//EN
CALSCALE:GREGORIAN
METHOD:PUBLISH
X-WR-CALNAME:Lutheran Valley Retreat
X-ORIGINAL-URL:https://lvr.org
X-WR-CALDESC:Events for Lutheran Valley Retreat
REFRESH-INTERVAL;VALUE=DURATION:PT1H
X-Robots-Tag:noindex
X-PUBLISHED-TTL:PT1H
BEGIN:VTIMEZONE
TZID:UTC
BEGIN:STANDARD
TZOFFSETFROM:+0000
TZOFFSETTO:+0000
TZNAME:UTC
DTSTART:20250101T000000
END:STANDARD
END:VTIMEZONE
BEGIN:VEVENT
DTSTART;VALUE=DATE:20260621
DTEND;VALUE=DATE:20260627
DTSTAMP:20260423T214537
CREATED:20241017T220747Z
LAST-MODIFIED:20251009T175320Z
UID:8615-1782000000-1782518399@lvr.org
SUMMARY:River Adventure (13-17)
DESCRIPTION:Youth will still check in Sunday like normal but then leave Monday morning to hike down to the South Platte River. This amazing pack trip will treat adventurers to some of Colorado’s most beautiful and rugged terrain – hiking 1200 vertical ft. to the Platte River down Metberry Gulch – with climb/rappel for 3 days\, playing in the river\, and rafting on Thursday. \nThis is a particularly bonding trip for kids who want to get out of their comfort zone and do something they may never think to do otherwise! \nBackpacks\, tents\, food and sleeping pads will be provided. \nPrice: $580
URL:https://lvr.org/camp-calendar/river-adventure-13-17/
ATTACH;FMTTYPE=image/jpeg:https://lvr.org/wp-content/uploads/2024/03/IMG_2963-scaled.jpg
END:VEVENT
BEGIN:VEVENT
DTSTART;VALUE=DATE:20260705
DTEND;VALUE=DATE:20260711
DTSTAMP:20260423T214537
CREATED:20241127T155424Z
LAST-MODIFIED:20251009T175306Z
UID:8844-1783209600-1783727999@lvr.org
SUMMARY:River Adventure (11-13 years old)
DESCRIPTION:Youth will still check in Sunday like normal but then leave Monday morning to hike down to the South Platte River. This amazing pack trip will treat adventurers to some of Colorado’s most beautiful and rugged terrain – hiking 1200 vertical ft. to the Platte River down Metberry Gulch – with climb/rappel for 3 days\, playing in the river\, and rafting on Thursday. \nThis is a particularly bonding trip for kids who want to get out of their comfort zone and do something they may never think to do otherwise! \nBackpacks\, tents\, food and sleeping pads will be provided. \nPrice: $580
URL:https://lvr.org/camp-calendar/river-adventure-11-13-years-old/
ATTACH;FMTTYPE=image/jpeg:https://lvr.org/wp-content/uploads/2024/03/IMG_2963-scaled.jpg
END:VEVENT
BEGIN:VEVENT
DTSTART;VALUE=DATE:20260712
DTEND;VALUE=DATE:20260718
DTSTAMP:20260423T214537
CREATED:20241127T155912Z
LAST-MODIFIED:20251009T175317Z
UID:8846-1783814400-1784332799@lvr.org
SUMMARY:River Adventure (13 - 17 years old)
DESCRIPTION:Youth will still check in Sunday like normal but then leave Monday morning to hike down to the South Platte River. This amazing pack trip will treat adventurers to some of Colorado’s most beautiful and rugged terrain – hiking 1200 vertical ft. to the Platte River down Metberry Gulch – with climb/rappel for 3 days\, playing in the river\, and rafting on Thursday. \nThis is a particularly bonding trip for kids who want to get out of their comfort zone and do something they may never think to do otherwise! \nBackpacks\, tents\, food and sleeping pads will be provided. \nPrice: $580
URL:https://lvr.org/camp-calendar/river-adventure-13-17-years-old/
ATTACH;FMTTYPE=image/jpeg:https://lvr.org/wp-content/uploads/2024/03/IMG_2963-scaled.jpg
END:VEVENT
BEGIN:VEVENT
DTSTART;VALUE=DATE:20260726
DTEND;VALUE=DATE:20260801
DTSTAMP:20260423T214537
CREATED:20241127T160007Z
LAST-MODIFIED:20251009T175318Z
UID:8848-1785024000-1785542399@lvr.org
SUMMARY:River Adventure (13-17 years old)
DESCRIPTION:Youth will still check in Sunday like normal but then leave Monday morning to hike down to the South Platte River. This amazing pack trip will treat adventurers to some of Colorado’s most beautiful and rugged terrain – hiking 1200 vertical ft. to the Platte River down Metberry Gulch – with climb/rappel for 3 days\, playing in the river\, and rafting on Thursday. \nThis is a particularly bonding trip for kids who want to get out of their comfort zone and do something they may never think to do otherwise! \nBackpacks\, tents\, food and sleeping pads will be provided. \nPrice: $580
URL:https://lvr.org/camp-calendar/river-adventure-13-17-years-old-2/
ATTACH;FMTTYPE=image/jpeg:https://lvr.org/wp-content/uploads/2024/03/IMG_2963-scaled.jpg
END:VEVENT
END:VCALENDAR