BEGIN:VCALENDAR
VERSION:2.0
PRODID:-//Lutheran Valley Retreat - ECPv6.15.20//NONSGML v1.0//EN
CALSCALE:GREGORIAN
METHOD:PUBLISH
X-WR-CALNAME:Lutheran Valley Retreat
X-ORIGINAL-URL:https://lvr.org
X-WR-CALDESC:Events for Lutheran Valley Retreat
REFRESH-INTERVAL;VALUE=DURATION:PT1H
X-Robots-Tag:noindex
X-PUBLISHED-TTL:PT1H
BEGIN:VTIMEZONE
TZID:UTC
BEGIN:STANDARD
TZOFFSETFROM:+0000
TZOFFSETTO:+0000
TZNAME:UTC
DTSTART:20250101T000000
END:STANDARD
END:VTIMEZONE
BEGIN:VTIMEZONE
TZID:America/Denver
BEGIN:DAYLIGHT
TZOFFSETFROM:-0700
TZOFFSETTO:-0600
TZNAME:MDT
DTSTART:20250309T090000
END:DAYLIGHT
BEGIN:STANDARD
TZOFFSETFROM:-0600
TZOFFSETTO:-0700
TZNAME:MST
DTSTART:20251102T080000
END:STANDARD
BEGIN:DAYLIGHT
TZOFFSETFROM:-0700
TZOFFSETTO:-0600
TZNAME:MDT
DTSTART:20260308T090000
END:DAYLIGHT
BEGIN:STANDARD
TZOFFSETFROM:-0600
TZOFFSETTO:-0700
TZNAME:MST
DTSTART:20261101T080000
END:STANDARD
BEGIN:DAYLIGHT
TZOFFSETFROM:-0700
TZOFFSETTO:-0600
TZNAME:MDT
DTSTART:20270314T090000
END:DAYLIGHT
BEGIN:STANDARD
TZOFFSETFROM:-0600
TZOFFSETTO:-0700
TZNAME:MST
DTSTART:20271107T080000
END:STANDARD
END:VTIMEZONE
BEGIN:VEVENT
DTSTART;VALUE=DATE:20260430
DTEND;VALUE=DATE:20260504
DTSTAMP:20260423T183410
CREATED:20241017T204823Z
LAST-MODIFIED:20251009T174318Z
UID:8585-1777507200-1777852799@lvr.org
SUMMARY:Family Of Christ Men's Retreat
DESCRIPTION:Time for the 2025 FOC Men’s Retreat! Rest assured\, there will be biblical leadership\, community with fellow FOC members\, the gun range\, 200 foot rappels and much more.
URL:https://lvr.org/camp-calendar/family-of-christ-mens-retreat/
ATTACH;FMTTYPE=image/jpeg:https://lvr.org/wp-content/uploads/2024/11/DSC_0699-scaled.jpg
END:VEVENT
BEGIN:VEVENT
DTSTART;TZID=America/Denver:20260508T180000
DTEND;TZID=America/Denver:20260510T110000
DTSTAMP:20260423T183410
CREATED:20230307T224157Z
LAST-MODIFIED:20251009T174347Z
UID:8059-1778263200-1778410800@lvr.org
SUMMARY:Family Work Weekend
DESCRIPTION:Family Work Weekend\nThis completely FREE weekend is designed for you to enjoy LVR while working with the staff to get camp ready for the summer season. \n  \nRegister Now
URL:https://lvr.org/camp-calendar/family-work-weekend/
ATTACH;FMTTYPE=image/jpeg:https://lvr.org/wp-content/uploads/2023/02/IMG_6999_resized-scaled.jpg
END:VEVENT
BEGIN:VEVENT
DTSTART;VALUE=DATE:20260514
DTEND;VALUE=DATE:20260516
DTSTAMP:20260423T183410
CREATED:20241017T205459Z
LAST-MODIFIED:20251009T175353Z
UID:8592-1778716800-1778889599@lvr.org
SUMMARY:St. John's 5th grade trip
DESCRIPTION:St. John’s 5th graders will come up for a quick end of year trip. The 24 hours includes a mine tour\, TIP’s\, games\, and a visit to the Wolf Center! Just wait till next fall when you come back for a full 3 days!
URL:https://lvr.org/camp-calendar/st-johns-5th-grade-trip/
ATTACH;FMTTYPE=image/jpeg:https://lvr.org/wp-content/uploads/2025/06/20240909_134128-scaled.jpg
END:VEVENT
BEGIN:VEVENT
DTSTART;VALUE=DATE:20260521
DTEND;VALUE=DATE:20260526
DTSTAMP:20260423T183410
CREATED:20241017T210810Z
LAST-MODIFIED:20251009T175029Z
UID:8595-1779321600-1779753599@lvr.org
SUMMARY:Memorial Day Weekend Servant Event
DESCRIPTION:Join Leland Jackson for a fun weekend serving at LVR. This is a laid back event fixing trails\, completing building projects\, cutting firewood and many other work projects. Pair a hard days work with playing cards in great christian community. I call that a win!
URL:https://lvr.org/camp-calendar/memorial-day-weekend-servant-event/
ATTACH;FMTTYPE=image/jpeg:https://lvr.org/wp-content/uploads/2024/10/DSC0748-scaled.jpg
END:VEVENT
BEGIN:VEVENT
DTSTART;VALUE=DATE:20260531
DTEND;VALUE=DATE:20260606
DTSTAMP:20260423T183410
CREATED:20241017T211623Z
LAST-MODIFIED:20251009T174908Z
UID:8599-1780185600-1780703999@lvr.org
SUMMARY:Kansas District Week
DESCRIPTION:Kansas Teens \nGet your bag’s packed and get on that bus for a week of spiritual enrichment in the mountains of Colorado! \nWhat to expect:\n– Making life-long friends with other Kansas LCMS teens\n– Late night campfire talks\n– Leaning what the “5-C’s” are\n– Falling in love with bus games\n– Building trusting bonds with your Village\n– Beating the staff in “Night-Strike”\n– Hiking Cedar Mountain for an incredible view\n– Making friendship bracelets\n– Rappelling off 60 foot cliffs\n– Leading Worship\n– Having fun Kitchen Parties\n– Hearing everyone scream on the giant swing\n– Flying down zip-lines\n– Challenging your comfort zone
URL:https://lvr.org/camp-calendar/kansas-district-week/
ATTACH;FMTTYPE=image/jpeg:https://lvr.org/wp-content/uploads/2024/02/DSC0080-scaled.jpg
END:VEVENT
END:VCALENDAR