BEGIN:VCALENDAR
VERSION:2.0
PRODID:-//Lutheran Valley Retreat - ECPv6.15.20//NONSGML v1.0//EN
CALSCALE:GREGORIAN
METHOD:PUBLISH
X-WR-CALNAME:Lutheran Valley Retreat
X-ORIGINAL-URL:https://lvr.org
X-WR-CALDESC:Events for Lutheran Valley Retreat
REFRESH-INTERVAL;VALUE=DURATION:PT1H
X-Robots-Tag:noindex
X-PUBLISHED-TTL:PT1H
BEGIN:VTIMEZONE
TZID:UTC
BEGIN:STANDARD
TZOFFSETFROM:+0000
TZOFFSETTO:+0000
TZNAME:UTC
DTSTART:20240101T000000
END:STANDARD
END:VTIMEZONE
BEGIN:VTIMEZONE
TZID:America/Denver
BEGIN:DAYLIGHT
TZOFFSETFROM:-0700
TZOFFSETTO:-0600
TZNAME:MDT
DTSTART:20250309T090000
END:DAYLIGHT
BEGIN:STANDARD
TZOFFSETFROM:-0600
TZOFFSETTO:-0700
TZNAME:MST
DTSTART:20251102T080000
END:STANDARD
BEGIN:DAYLIGHT
TZOFFSETFROM:-0700
TZOFFSETTO:-0600
TZNAME:MDT
DTSTART:20260308T090000
END:DAYLIGHT
BEGIN:STANDARD
TZOFFSETFROM:-0600
TZOFFSETTO:-0700
TZNAME:MST
DTSTART:20261101T080000
END:STANDARD
BEGIN:DAYLIGHT
TZOFFSETFROM:-0700
TZOFFSETTO:-0600
TZNAME:MDT
DTSTART:20270314T090000
END:DAYLIGHT
BEGIN:STANDARD
TZOFFSETFROM:-0600
TZOFFSETTO:-0700
TZNAME:MST
DTSTART:20271107T080000
END:STANDARD
END:VTIMEZONE
BEGIN:VEVENT
DTSTART;VALUE=DATE:20260521
DTEND;VALUE=DATE:20260526
DTSTAMP:20260423T234940
CREATED:20241017T210810Z
LAST-MODIFIED:20251009T175029Z
UID:8595-1779321600-1779753599@lvr.org
SUMMARY:Memorial Day Weekend Servant Event
DESCRIPTION:Join Leland Jackson for a fun weekend serving at LVR. This is a laid back event fixing trails\, completing building projects\, cutting firewood and many other work projects. Pair a hard days work with playing cards in great christian community. I call that a win!
URL:https://lvr.org/camp-calendar/memorial-day-weekend-servant-event/
ATTACH;FMTTYPE=image/jpeg:https://lvr.org/wp-content/uploads/2024/10/DSC0748-scaled.jpg
END:VEVENT
BEGIN:VEVENT
DTSTART;VALUE=DATE:20260514
DTEND;VALUE=DATE:20260516
DTSTAMP:20260423T234940
CREATED:20241017T205459Z
LAST-MODIFIED:20251009T175353Z
UID:8592-1778716800-1778889599@lvr.org
SUMMARY:St. John's 5th grade trip
DESCRIPTION:St. John’s 5th graders will come up for a quick end of year trip. The 24 hours includes a mine tour\, TIP’s\, games\, and a visit to the Wolf Center! Just wait till next fall when you come back for a full 3 days!
URL:https://lvr.org/camp-calendar/st-johns-5th-grade-trip/
ATTACH;FMTTYPE=image/jpeg:https://lvr.org/wp-content/uploads/2025/06/20240909_134128-scaled.jpg
END:VEVENT
BEGIN:VEVENT
DTSTART;TZID=America/Denver:20260508T180000
DTEND;TZID=America/Denver:20260510T110000
DTSTAMP:20260423T234940
CREATED:20230307T224157Z
LAST-MODIFIED:20251009T174347Z
UID:8059-1778263200-1778410800@lvr.org
SUMMARY:Family Work Weekend
DESCRIPTION:Family Work Weekend\nThis completely FREE weekend is designed for you to enjoy LVR while working with the staff to get camp ready for the summer season. \n  \nRegister Now
URL:https://lvr.org/camp-calendar/family-work-weekend/
ATTACH;FMTTYPE=image/jpeg:https://lvr.org/wp-content/uploads/2023/02/IMG_6999_resized-scaled.jpg
END:VEVENT
BEGIN:VEVENT
DTSTART;VALUE=DATE:20260430
DTEND;VALUE=DATE:20260504
DTSTAMP:20260423T234940
CREATED:20241017T204823Z
LAST-MODIFIED:20251009T174318Z
UID:8585-1777507200-1777852799@lvr.org
SUMMARY:Family Of Christ Men's Retreat
DESCRIPTION:Time for the 2025 FOC Men’s Retreat! Rest assured\, there will be biblical leadership\, community with fellow FOC members\, the gun range\, 200 foot rappels and much more.
URL:https://lvr.org/camp-calendar/family-of-christ-mens-retreat/
ATTACH;FMTTYPE=image/jpeg:https://lvr.org/wp-content/uploads/2024/11/DSC_0699-scaled.jpg
END:VEVENT
BEGIN:VEVENT
DTSTART;VALUE=DATE:20260206
DTEND;VALUE=DATE:20260209
DTSTAMP:20260423T234940
CREATED:20241017T203410Z
LAST-MODIFIED:20251009T173622Z
UID:8578-1770336000-1770595199@lvr.org
SUMMARY:Women's Winter Craft Retreat
DESCRIPTION:Ladies! \nThis might be the most relaxing retreat of the year! \nThings to bring:\n– Your own crafting projects – we will have crafts available for those who aren’t crafting professionals\n– Pajamas – you don’t have to wear real clothes the entire retreat if you don’t want\n– Snow gear – for walking to the cafeteria\, optional sledding\, and the occasional snow angel break\n– A Mug – both for sipping hot-chocolate and for our mug swap\n– Bible – don’t worry\, we’ll be getting into scripture!
URL:https://lvr.org/camp-calendar/womens-winter-craft-retreat/
ATTACH;FMTTYPE=image/jpeg:https://lvr.org/wp-content/uploads/2024/03/IMG_4527-scaled.jpg
END:VEVENT
BEGIN:VEVENT
DTSTART;VALUE=DATE:20260130
DTEND;VALUE=DATE:20260202
DTSTAMP:20260423T234940
CREATED:20241017T202307Z
LAST-MODIFIED:20251009T180206Z
UID:8575-1769731200-1769990399@lvr.org
SUMMARY:Trinity Franktown Youth Retreat
DESCRIPTION:Trinity\, get ready for another great winter retreat! \nThing’s we’re looking forward to:\n– a new colorful shirt\n– asking hard questions to our knowledgable leaders\n– Winning Broomball\n– digging into scripture with our friends\n– winning monarch
URL:https://lvr.org/camp-calendar/trinity-franktown-youth-retreat/
ATTACH;FMTTYPE=image/jpeg:https://lvr.org/wp-content/uploads/2024/10/DSC_0103-scaled.jpg
END:VEVENT
BEGIN:VEVENT
DTSTART;VALUE=DATE:20260123
DTEND;VALUE=DATE:20260126
DTSTAMP:20260423T234940
CREATED:20241017T201924Z
LAST-MODIFIED:20251009T173330Z
UID:8573-1769126400-1769385599@lvr.org
SUMMARY:Winter Youth Retreat
DESCRIPTION:This retreat is for youth groups from all around! Bring your Senior and Junior high for a winter get away! \nThis event is for:\n– youth wanting to get into scripture\n– groups wanting to grow in trust and leadership skills\n– teens and chaperones wanting to get away from the city and into God’s beautiful winter creation\n– Broomballing\, snowball fight\, igloo making\, sledding\, winter hiking fanatics \n 
URL:https://lvr.org/camp-calendar/winter-youth-retreat/
ATTACH;FMTTYPE=image/jpeg:https://lvr.org/wp-content/uploads/2024/03/IMG_4527-scaled.jpg
END:VEVENT
BEGIN:VEVENT
DTSTART;TZID=UTC:20251107T080000
DTEND;TZID=UTC:20251109T170000
DTSTAMP:20260423T234940
CREATED:20241017T195758Z
LAST-MODIFIED:20251009T175212Z
UID:8564-1762502400-1762707600@lvr.org
SUMMARY:Our Father Centennial Youth Retreat
DESCRIPTION:We are excited to once again host “Our Father” Centennial and their youth retreat!
URL:https://lvr.org/camp-calendar/8564/
END:VEVENT
BEGIN:VEVENT
DTSTART;TZID=UTC:20250102T080000
DTEND;TZID=UTC:20250105T170000
DTSTAMP:20260423T234940
CREATED:20241017T200903Z
LAST-MODIFIED:20241017T200903Z
UID:8569-1735804800-1736096400@lvr.org
SUMMARY:2024 Staff Reunion
DESCRIPTION:  \n \nStaff!\nCamp misses you! Come hang out for a few days to catch up\, lose to the camp kids in ‘Broomball’ and experience camp in the snow season. Will you get the record for longest sled or most staff in a tube? Will you learn how to start a wood-burning stove? Will you reconnect with your summer pals? That is all up to you!  \n*This event is free for all past staff. Just get here!*
URL:https://lvr.org/camp-calendar/2024-staff-reunion/
END:VEVENT
END:VCALENDAR