BEGIN:VCALENDAR
VERSION:2.0
PRODID:-//Lutheran Valley Retreat - ECPv6.15.20//NONSGML v1.0//EN
CALSCALE:GREGORIAN
METHOD:PUBLISH
X-WR-CALNAME:Lutheran Valley Retreat
X-ORIGINAL-URL:https://lvr.org
X-WR-CALDESC:Events for Lutheran Valley Retreat
REFRESH-INTERVAL;VALUE=DURATION:PT1H
X-Robots-Tag:noindex
X-PUBLISHED-TTL:PT1H
BEGIN:VTIMEZONE
TZID:UTC
BEGIN:STANDARD
TZOFFSETFROM:+0000
TZOFFSETTO:+0000
TZNAME:UTC
DTSTART:20250101T000000
END:STANDARD
END:VTIMEZONE
BEGIN:VEVENT
DTSTART;VALUE=DATE:20260615
DTEND;VALUE=DATE:20260619
DTSTAMP:20260423T220257
CREATED:20241017T213316Z
LAST-MODIFIED:20251009T174109Z
UID:8607-1781481600-1781827199@lvr.org
SUMMARY:Catechism Week
DESCRIPTION:The much sought after Catechism Week is back! Legal Guardians must register students so push your parent’s to sign up as soon as possible to ensure a spot. Ask your pastor for the registration password\, or email lvr@lvr.org for it.
URL:https://lvr.org/camp-calendar/catechism-week/
END:VEVENT
BEGIN:VEVENT
DTSTART;VALUE=DATE:20260618
DTEND;VALUE=DATE:20260622
DTSTAMP:20260423T220257
CREATED:20241108T174601Z
LAST-MODIFIED:20251009T174455Z
UID:8636-1781740800-1782086399@lvr.org
SUMMARY:First Slavic Church of Denver
DESCRIPTION:The First Slavic Church of Denver will be joining us this weekend to grow in faith as a church family. \nOur site will be full with close to 120 attendees!
URL:https://lvr.org/camp-calendar/first-slavic-church-of-denver/
END:VEVENT
END:VCALENDAR