BEGIN:VCALENDAR
VERSION:2.0
PRODID:-//Lutheran Valley Retreat - ECPv6.15.20//NONSGML v1.0//EN
CALSCALE:GREGORIAN
METHOD:PUBLISH
X-ORIGINAL-URL:https://lvr.org
X-WR-CALDESC:Events for Lutheran Valley Retreat
REFRESH-INTERVAL;VALUE=DURATION:PT1H
X-Robots-Tag:noindex
X-PUBLISHED-TTL:PT1H
BEGIN:VTIMEZONE
TZID:UTC
BEGIN:STANDARD
TZOFFSETFROM:+0000
TZOFFSETTO:+0000
TZNAME:UTC
DTSTART:20250101T000000
END:STANDARD
END:VTIMEZONE
BEGIN:VEVENT
DTSTART;VALUE=DATE:20260607
DTEND;VALUE=DATE:20260613
DTSTAMP:20260423T220435
CREATED:20241017T212817Z
LAST-MODIFIED:20251009T175059Z
UID:8604-1780790400-1781308799@lvr.org
SUMMARY:Middle School Leadership Week
DESCRIPTION:Middle Schoolers are invited to this special week! We will focus on growing your leadership abilities\, determining your Christian Values\, and challenging your comfort zone. We are excited to get kids outside and into God’s creation! \n*$460 for youth\, half price for adults and free for church workers* \nReach out to us for the registration password!
URL:https://lvr.org/camp-calendar/middle-school-leadership-week/
ATTACH;FMTTYPE=image/jpeg:https://lvr.org/wp-content/uploads/2023/02/Copy-of-DSC_0042-1-scaled.jpg
END:VEVENT
END:VCALENDAR